BEGIN:VCALENDAR
VERSION:2.0
PRODID:-//Human Services Agency - ECPv6.15.20//NONSGML v1.0//EN
CALSCALE:GREGORIAN
METHOD:PUBLISH
X-ORIGINAL-URL:https://venturacounty.gov/human-services-agency/es
X-WR-CALDESC:Eventos para Human Services Agency
REFRESH-INTERVAL;VALUE=DURATION:PT1H
X-Robots-Tag:noindex
X-PUBLISHED-TTL:PT1H
BEGIN:VTIMEZONE
TZID:UTC
BEGIN:STANDARD
TZOFFSETFROM:+0000
TZOFFSETTO:+0000
TZNAME:UTC
DTSTART:20240101T000000
END:STANDARD
END:VTIMEZONE
BEGIN:VEVENT
DTSTART;TZID=UTC:20251011T100000
DTEND;TZID=UTC:20251011T140000
DTSTAMP:20260423T091843
CREATED:20251003T165815Z
LAST-MODIFIED:20251006T174225Z
UID:397457-1760176800-1760191200@venturacounty.gov
SUMMARY:Bridging LGBTQ+ Familias
DESCRIPTION:The LGBT+ Aging Coalition and the Ventura County Area Agency on Aging (VCAAA) will be co-tabling at the Bridging LGBTQ+ Familias event\, set for Saturday\, Oct. 11. It will take place at the Oxnard Adult School (1800 Solar Drive in Oxnard) from 10 a.m. to 2 p.m. The program will primarily be done in Spanish.
URL:https://venturacounty.gov/human-services-agency/es/event/bridging-lgbtq-familias/
END:VEVENT
END:VCALENDAR