BEGIN:VCALENDAR
VERSION:2.0
PRODID:-//Human Services Agency - ECPv6.15.20//NONSGML v1.0//EN
CALSCALE:GREGORIAN
METHOD:PUBLISH
X-ORIGINAL-URL:https://venturacounty.gov/human-services-agency/es
X-WR-CALDESC:Eventos para Human Services Agency
REFRESH-INTERVAL;VALUE=DURATION:PT1H
X-Robots-Tag:noindex
X-PUBLISHED-TTL:PT1H
BEGIN:VTIMEZONE
TZID:UTC
BEGIN:STANDARD
TZOFFSETFROM:+0000
TZOFFSETTO:+0000
TZNAME:UTC
DTSTART:20240101T000000
END:STANDARD
END:VTIMEZONE
BEGIN:VEVENT
DTSTART;TZID=UTC:20251014T100000
DTEND;TZID=UTC:20251014T113000
DTSTAMP:20260421T035530
CREATED:20250915T131256Z
LAST-MODIFIED:20250915T232428Z
UID:397409-1760436000-1760441400@venturacounty.gov
SUMMARY:Veteran Services Orientation
DESCRIPTION:Join us at our upcoming Veteran Services Orientation to learn about resources available to local veterans. You can receive information on employment and training opportunities\, counseling and rehabilitation\, and VA education and medical benefits.  This event includes information on state and federal benefits for veterans. Please call 805-288-8400 to register for this in-person event. \nVeteran Orientation Flyer For 10.14.25
URL:https://venturacounty.gov/human-services-agency/es/event/veteran-services-orientation-2/
ATTACH;FMTTYPE=application/pdf:https://venturacounty.gov/human-services-agency/wp-content/uploads/sites/20/2025/09/Veteran-Orientation-Flyer-for-10.14.25-1.pdf
END:VEVENT
BEGIN:VEVENT
DTSTART;TZID=UTC:20251014T120000
DTEND;TZID=UTC:20251014T140000
DTSTAMP:20260421T035530
CREATED:20251003T171223Z
LAST-MODIFIED:20251014T153855Z
UID:397462-1760443200-1760450400@venturacounty.gov
SUMMARY:CANCELED: Senior Resource Fair & Art Show
DESCRIPTION:Note: this event has been canceled by the organizers for safety reasons due to the inclement weather. \nThe Ventura County Area Agency on Aging (VCAAA) will have a table at the Senior Resource Fair & Art Show\, which is being hosted by Ventura Housing. It will take place on Tuesday\, Oct. 14\, from 12-2 p.m. at the VDMC Palm Apartments (137 S. Palm St. in Ventura).
URL:https://venturacounty.gov/human-services-agency/es/event/senior-resource-fair-art-show/
END:VEVENT
END:VCALENDAR