BEGIN:VCALENDAR
VERSION:2.0
PRODID:-//Human Services Agency - ECPv6.15.20//NONSGML v1.0//EN
CALSCALE:GREGORIAN
METHOD:PUBLISH
X-WR-CALNAME:Human Services Agency
X-ORIGINAL-URL:https://venturacounty.gov/human-services-agency
X-WR-CALDESC:Events for Human Services Agency
REFRESH-INTERVAL;VALUE=DURATION:PT1H
X-Robots-Tag:noindex
X-PUBLISHED-TTL:PT1H
BEGIN:VTIMEZONE
TZID:UTC
BEGIN:STANDARD
TZOFFSETFROM:+0000
TZOFFSETTO:+0000
TZNAME:UTC
DTSTART:20240101T000000
END:STANDARD
END:VTIMEZONE
BEGIN:VEVENT
DTSTART;TZID=UTC:20250924T140000
DTEND;TZID=UTC:20250924T160000
DTSTAMP:20260419T172126
CREATED:20250915T123419Z
LAST-MODIFIED:20250915T224050Z
UID:397407-1758722400-1758729600@venturacounty.gov
SUMMARY:Ray D. Prueter Library PRU-Innovation Lab Activity
DESCRIPTION:Join us as we celebrate National Hispanic Heritage Month with a make your own Mexican Sun Huichol Yarn Painting. All supplies are provided. No registration necessary.
URL:https://venturacounty.gov/human-services-agency/event/ray-d-prueter-library-pru-innovation-lab-activity/
ATTACH;FMTTYPE=image/jpeg:https://venturacounty.gov/human-services-agency/wp-content/uploads/sites/20/2025/09/huichol.jpg
END:VEVENT
END:VCALENDAR