BEGIN:VCALENDAR
VERSION:2.0
PRODID:-//Human Services Agency - ECPv6.15.20//NONSGML v1.0//EN
CALSCALE:GREGORIAN
METHOD:PUBLISH
X-ORIGINAL-URL:https://venturacounty.gov/human-services-agency
X-WR-CALDESC:Events for Human Services Agency
REFRESH-INTERVAL;VALUE=DURATION:PT1H
X-Robots-Tag:noindex
X-PUBLISHED-TTL:PT1H
BEGIN:VTIMEZONE
TZID:UTC
BEGIN:STANDARD
TZOFFSETFROM:+0000
TZOFFSETTO:+0000
TZNAME:UTC
DTSTART:20250101T000000
END:STANDARD
END:VTIMEZONE
BEGIN:VEVENT
DTSTART;TZID=UTC:20260113T100000
DTEND;TZID=UTC:20260113T113000
DTSTAMP:20260419T202530
CREATED:20251230T170048Z
LAST-MODIFIED:20251230T170048Z
UID:397648-1768298400-1768303800@venturacounty.gov
SUMMARY:Veteran Services Orientation
DESCRIPTION:Join us at our upcoming Veteran Services Orientation to learn about resources available to local veterans. You can receive information on employment and training opportunities\, counseling and rehabilitation\, and VA education and medical benefits.  This event includes information on state and federal benefits for veterans. Please call 805-288-8400 to register for this in-person event. \nVeteran Services Orientation January 2026 Flyer \n  \n  \n 
URL:https://venturacounty.gov/human-services-agency/event/veteran-services-orientation-4/
ATTACH;FMTTYPE=image/jpeg:https://venturacounty.gov/human-services-agency/wp-content/uploads/sites/20/2025/12/Veteran-Orientation-Flyer-for-1.26-scaled.jpg
END:VEVENT
BEGIN:VEVENT
DTSTART;TZID=UTC:20260121T090000
DTEND;TZID=UTC:20260121T130000
DTSTAMP:20260419T202530
CREATED:20251125T183346Z
LAST-MODIFIED:20251125T183346Z
UID:397601-1768986000-1769000400@venturacounty.gov
SUMMARY:CSVP Wellness Fest
DESCRIPTION:The Ventura County Area Agency on Aging will have a table at the 2026 CSVP Wellness Fest\, and the VCAAA Advisory Council’s workforce committee will host an older-adult job fair. The event takes place on Wednesday\, Jan. 21\, from 9 a.m. to 1 p.m. at the Goebel Adult Community Center in Thousand Oaks (1385 E. Janss Road).
URL:https://venturacounty.gov/human-services-agency/event/csvp-wellness-fest-2/
END:VEVENT
END:VCALENDAR